BEGIN:VCALENDAR
VERSION:2.0
PRODID:-//CERC Ottawa - ECPv6.0.4//NONSGML v1.0//EN
CALSCALE:GREGORIAN
METHOD:PUBLISH
X-WR-CALNAME:CERC Ottawa
X-ORIGINAL-URL:https://www.cercottawa.ca
X-WR-CALDESC:Events for CERC Ottawa
REFRESH-INTERVAL;VALUE=DURATION:PT1H
X-Robots-Tag:noindex
X-PUBLISHED-TTL:PT1H
BEGIN:VTIMEZONE
TZID:America/Toronto
BEGIN:DAYLIGHT
TZOFFSETFROM:-0500
TZOFFSETTO:-0400
TZNAME:EDT
DTSTART:20220313T070000
END:DAYLIGHT
BEGIN:STANDARD
TZOFFSETFROM:-0400
TZOFFSETTO:-0500
TZNAME:EST
DTSTART:20221106T060000
END:STANDARD
END:VTIMEZONE
BEGIN:VEVENT
DTSTART;TZID=America/Toronto:20221129T133000
DTEND;TZID=America/Toronto:20221129T143000
DTSTAMP:20260419T180435
CREATED:20220825T202223Z
LAST-MODIFIED:20221023T234407Z
UID:19001-1669728600-1669732200@www.cercottawa.ca
SUMMARY:In-Person Interview Workshop at Ottawa Public Library (Beaverbrook Branch) November 29\, 2022; 1:30pm-2:30pm
DESCRIPTION:This event will be held at the OPL Beaverbrook Branch: 2500 Campeau Dr.\, Kanata\, ON K2K 2W3. \nRegister today: https://biblioottawalibrary.ca/en/event/interview-preparation-workshop
URL:https://www.cercottawa.ca/calendar-event/in-person-job-search-workshop-at-ottawa-public-library-beaverbrook-branch-october-27-2022-1pm-3pm-2-2/
LOCATION:Ottawa Public Library\, 2500 Campeau Dr\, Kanata\, Ontario\, K2K 2W3\, Canada
ORGANIZER;CN="CERC":MAILTO:info@cercottawa.ca
END:VEVENT
END:VCALENDAR