BEGIN:VCALENDAR
VERSION:2.0
PRODID:-//CERC Ottawa - ECPv6.0.4//NONSGML v1.0//EN
CALSCALE:GREGORIAN
METHOD:PUBLISH
X-ORIGINAL-URL:https://www.cercottawa.ca
X-WR-CALDESC:Events for CERC Ottawa
REFRESH-INTERVAL;VALUE=DURATION:PT1H
X-Robots-Tag:noindex
X-PUBLISHED-TTL:PT1H
BEGIN:VTIMEZONE
TZID:America/Toronto
BEGIN:DAYLIGHT
TZOFFSETFROM:-0500
TZOFFSETTO:-0400
TZNAME:EDT
DTSTART:20220313T070000
END:DAYLIGHT
BEGIN:STANDARD
TZOFFSETFROM:-0400
TZOFFSETTO:-0500
TZNAME:EST
DTSTART:20221106T060000
END:STANDARD
END:VTIMEZONE
BEGIN:VEVENT
DTSTART;VALUE=DATE:20221223
DTEND;VALUE=DATE:20221224
DTSTAMP:20260419T193811
CREATED:20221122T183551Z
LAST-MODIFIED:20221122T183551Z
UID:19016-1671753600-1671839999@www.cercottawa.ca
SUMMARY:WHMIS 2015 Certification - December 23\, 2022
DESCRIPTION:WHMIS is a comprehensive system for providing health and safety information on hazardous products intended for use\, handling\, or storage in Canadian workplaces.  A “Proof of Completion” certificate will be issued upon completion of the training.  As this is an online training session\, you choose what time works for you!
URL:https://www.cercottawa.ca/calendar-event/whmis-2015-certification-december-23-2022/
LOCATION:Online\, Ontario\, Canada
END:VEVENT
END:VCALENDAR