BEGIN:VCALENDAR
VERSION:2.0
PRODID:-//CERC Ottawa - ECPv6.0.4//NONSGML v1.0//EN
CALSCALE:GREGORIAN
METHOD:PUBLISH
X-ORIGINAL-URL:https://www.cercottawa.ca
X-WR-CALDESC:Events for CERC Ottawa
REFRESH-INTERVAL;VALUE=DURATION:PT1H
X-Robots-Tag:noindex
X-PUBLISHED-TTL:PT1H
BEGIN:VTIMEZONE
TZID:America/Toronto
BEGIN:DAYLIGHT
TZOFFSETFROM:-0500
TZOFFSETTO:-0400
TZNAME:EDT
DTSTART:20230312T070000
END:DAYLIGHT
BEGIN:STANDARD
TZOFFSETFROM:-0400
TZOFFSETTO:-0500
TZNAME:EST
DTSTART:20231105T060000
END:STANDARD
END:VTIMEZONE
BEGIN:VEVENT
DTSTART;TZID=America/Toronto:20230117T090000
DTEND;TZID=America/Toronto:20230117T110000
DTSTAMP:20260419T165557
CREATED:20221212T182913Z
LAST-MODIFIED:20221212T182913Z
UID:19115-1673946000-1673953200@www.cercottawa.ca
SUMMARY:Virtual O.P.P. Information Session - January 17\, 2023; 9:00am-11:00am
DESCRIPTION:This Ontario Provincial Police (OPP) Information Session provides participants the opportunity to gain knowledge\, insight and helpful advice relating to the OPPs recruitment process. The session includes an overview of how to apply\, pre-requisites\, expectations of an applicant and an overview of how to prepare for each stage of the process. This presentation will benefit those candidates who want to learn more about the OPPs recruitment process\, to ensure they are at their competitive best before they apply.  Registrants will be provided a Zoom link the morning of the event with instructions. \n**This event is open to first time attendees only**
URL:https://www.cercottawa.ca/calendar-event/virtual-o-p-p-information-session-january-17-2023-900am-1100am-2/
LOCATION:Online\, Ontario\, Canada
ORGANIZER;CN="CERC":MAILTO:info@cercottawa.ca
END:VEVENT
BEGIN:VEVENT
DTSTART;TZID=America/Toronto:20230117T130000
DTEND;TZID=America/Toronto:20230117T150000
DTSTAMP:20260419T165557
CREATED:20221212T183824Z
LAST-MODIFIED:20230103T202555Z
UID:19117-1673960400-1673967600@www.cercottawa.ca
SUMMARY:In-Person RCMP Information Session - January 17\, 2023; 1pm-3pm
DESCRIPTION:This Royal Canadian Mounted Police (RCMP) Information Session offers participants the chance to hear first-hand from RCMP recruiters about the exciting career opportunity available. You’ll get into the details of the recruiting process including the requirements and expectations for applying and how to prepare for each stage. If you’re still not sure and want to know more\, this is the presentation for you.  The session will be held at the CERC office\, 415 Hazeldean Rd.\, Kanata\, ON K2L 4C6. \nTo Register: \nhttps://www.rcmp-grc.gc.ca/even/en/e/8275 \nhttps://www.rcmp-grc.gc.ca/even/fr/e/8275 \n 
URL:https://www.cercottawa.ca/calendar-event/in-person-rcmp-information-session-january-17-2023-1pm-3pm-2/
LOCATION:CERC\, 415 Hazeldean Road\, Kanata\, ON\, K2L 4C6\, Canada
ORGANIZER;CN="CERC":MAILTO:info@cercottawa.ca
END:VEVENT
END:VCALENDAR