BEGIN:VCALENDAR
VERSION:2.0
PRODID:-//CERC Ottawa - ECPv6.0.4//NONSGML v1.0//EN
CALSCALE:GREGORIAN
METHOD:PUBLISH
X-ORIGINAL-URL:https://www.cercottawa.ca
X-WR-CALDESC:Events for CERC Ottawa
REFRESH-INTERVAL;VALUE=DURATION:PT1H
X-Robots-Tag:noindex
X-PUBLISHED-TTL:PT1H
BEGIN:VTIMEZONE
TZID:America/Toronto
BEGIN:DAYLIGHT
TZOFFSETFROM:-0500
TZOFFSETTO:-0400
TZNAME:EDT
DTSTART:20230312T070000
END:DAYLIGHT
BEGIN:STANDARD
TZOFFSETFROM:-0400
TZOFFSETTO:-0500
TZNAME:EST
DTSTART:20231105T060000
END:STANDARD
END:VTIMEZONE
BEGIN:VEVENT
DTSTART;TZID=America/Toronto:20230118T130000
DTEND;TZID=America/Toronto:20230118T150000
DTSTAMP:20260419T165653
CREATED:20221212T184732Z
LAST-MODIFIED:20221212T184732Z
UID:19119-1674046800-1674054000@www.cercottawa.ca
SUMMARY:Christian Horizons In-Person Information Session-January 18\, 2023; 1pm-3pm
DESCRIPTION:This Christian Horizons information session will provide the following insights: \n\nLearn more about who CH is?\nWhat is a Direct Support Professional?\nWho are the people we support?\nWhat do FT and PT opportunities look like?\nWhat are the professional development opportunities (ex. DSW apprenticeship)\n\nIf you are a Newcomer with a Healthcare background or someone who has experience supporting people with disabilities\, this is something you don’t want to miss!
URL:https://www.cercottawa.ca/calendar-event/christian-horizons-in-person-information-session-january-18-2023-1pm-3pm-2/
LOCATION:CERC\, 415 Hazeldean Road\, Kanata\, ON\, K2L 4C6\, Canada
ORGANIZER;CN="CERC":MAILTO:info@cercottawa.ca
END:VEVENT
END:VCALENDAR