BEGIN:VCALENDAR
VERSION:2.0
PRODID:-//CERC Ottawa - ECPv6.0.4//NONSGML v1.0//EN
CALSCALE:GREGORIAN
METHOD:PUBLISH
X-ORIGINAL-URL:https://www.cercottawa.ca
X-WR-CALDESC:Events for CERC Ottawa
REFRESH-INTERVAL;VALUE=DURATION:PT1H
X-Robots-Tag:noindex
X-PUBLISHED-TTL:PT1H
BEGIN:VTIMEZONE
TZID:America/Toronto
BEGIN:DAYLIGHT
TZOFFSETFROM:-0500
TZOFFSETTO:-0400
TZNAME:EDT
DTSTART:20230312T070000
END:DAYLIGHT
BEGIN:STANDARD
TZOFFSETFROM:-0400
TZOFFSETTO:-0500
TZNAME:EST
DTSTART:20231105T060000
END:STANDARD
END:VTIMEZONE
BEGIN:VEVENT
DTSTART;TZID=America/Toronto:20230127T090000
DTEND;TZID=America/Toronto:20230127T100000
DTSTAMP:20260420T115133
CREATED:20221212T180325Z
LAST-MODIFIED:20221212T180325Z
UID:19109-1674810000-1674813600@www.cercottawa.ca
SUMMARY:1-on-1 LinkedIn - January 27\, 2023; 9am-10am
DESCRIPTION:The Ottawa Job Market has never been more competitive. LinkedIn is the number one tool for recruiters to engage with you. Meet one-on-one with an Employment Consultant to optimize your profile. There are three one-hour time slots; choose yours today!
URL:https://www.cercottawa.ca/calendar-event/1-on-1-linkedin-january-27-2023-9am-10am/
LOCATION:Online\, Ontario\, Canada
ORGANIZER;CN="CERC":MAILTO:info@cercottawa.ca
END:VEVENT
BEGIN:VEVENT
DTSTART;TZID=America/Toronto:20230127T090000
DTEND;TZID=America/Toronto:20230127T110000
DTSTAMP:20260420T115133
CREATED:20221212T172127Z
LAST-MODIFIED:20221212T172127Z
UID:19101-1674810000-1674817200@www.cercottawa.ca
SUMMARY:Interactive Job Search - January 27\, 2023; 9am-11am
DESCRIPTION:This interactive virtual workshop will provide tips to help job seekers maximize their job search efforts and ability to self-market.  Topics will cover everything from tracking job search progress to essential skills employers are looking for.  We will also discuss the common job search myths and how to avoid any potential pitfalls\, the current labour market and virtual job fair tips. 
URL:https://www.cercottawa.ca/calendar-event/interactive-job-search-january-27-2023-9am-11am/
LOCATION:CERC\, 415 Hazeldean Road\, Kanata\, ON\, K2L 4C6\, Canada
ORGANIZER;CN="CERC":MAILTO:info@cercottawa.ca
END:VEVENT
BEGIN:VEVENT
DTSTART;TZID=America/Toronto:20230127T130000
DTEND;TZID=America/Toronto:20230127T140000
DTSTAMP:20260420T115133
CREATED:20221212T180107Z
LAST-MODIFIED:20221212T180107Z
UID:19107-1674824400-1674828000@www.cercottawa.ca
SUMMARY:1-on-1 LinkedIn - January 27\, 2023; 1pm-2pm
DESCRIPTION:The Ottawa Job Market has never been more competitive. LinkedIn is the number one tool for recruiters to engage with you. Meet one-on-one with an Employment Consultant to optimize your profile. There are three one-hour time slots; choose yours today!
URL:https://www.cercottawa.ca/calendar-event/1-on-1-linkedin-january-27-2023-1pm-2pm-2/
LOCATION:Online\, Ontario\, Canada
ORGANIZER;CN="CERC":MAILTO:info@cercottawa.ca
END:VEVENT
END:VCALENDAR