BEGIN:VCALENDAR
VERSION:2.0
PRODID:-//CERC Ottawa - ECPv6.0.4//NONSGML v1.0//EN
CALSCALE:GREGORIAN
METHOD:PUBLISH
X-WR-CALNAME:CERC Ottawa
X-ORIGINAL-URL:https://www.cercottawa.ca
X-WR-CALDESC:Events for CERC Ottawa
REFRESH-INTERVAL;VALUE=DURATION:PT1H
X-Robots-Tag:noindex
X-PUBLISHED-TTL:PT1H
BEGIN:VTIMEZONE
TZID:America/Toronto
BEGIN:DAYLIGHT
TZOFFSETFROM:-0500
TZOFFSETTO:-0400
TZNAME:EDT
DTSTART:20250309T070000
END:DAYLIGHT
BEGIN:STANDARD
TZOFFSETFROM:-0400
TZOFFSETTO:-0500
TZNAME:EST
DTSTART:20251102T060000
END:STANDARD
END:VTIMEZONE
BEGIN:VEVENT
DTSTART;VALUE=DATE:20251226
DTEND;VALUE=DATE:20251227
DTSTAMP:20260420T101219
CREATED:20251104T161642Z
LAST-MODIFIED:20251104T161642Z
UID:20940-1766707200-1766793599@www.cercottawa.ca
SUMMARY:Boxing Day - December 26\, 2025; Office Closed
DESCRIPTION:
URL:https://www.cercottawa.ca/calendar-event/boxing-day-december-26-2025-office-closed-2/
LOCATION:Interview Preparation Workshop – April 30\, 2026\, Ontario
ORGANIZER;CN="CERC":MAILTO:info@cercottawa.ca
END:VEVENT
END:VCALENDAR