BEGIN:VCALENDAR
VERSION:2.0
PRODID:-//CERC Ottawa - ECPv6.0.4//NONSGML v1.0//EN
CALSCALE:GREGORIAN
METHOD:PUBLISH
X-WR-CALNAME:CERC Ottawa
X-ORIGINAL-URL:https://www.cercottawa.ca
X-WR-CALDESC:Events for CERC Ottawa
REFRESH-INTERVAL;VALUE=DURATION:PT1H
X-Robots-Tag:noindex
X-PUBLISHED-TTL:PT1H
BEGIN:VTIMEZONE
TZID:America/Toronto
BEGIN:DAYLIGHT
TZOFFSETFROM:-0500
TZOFFSETTO:-0400
TZNAME:EDT
DTSTART:20260308T070000
END:DAYLIGHT
BEGIN:STANDARD
TZOFFSETFROM:-0400
TZOFFSETTO:-0500
TZNAME:EST
DTSTART:20261101T060000
END:STANDARD
END:VTIMEZONE
BEGIN:VEVENT
DTSTART;TZID=America/Toronto:20260423T140000
DTEND;TZID=America/Toronto:20260423T180000
DTSTAMP:20260423T121533
CREATED:20260331T182924Z
LAST-MODIFIED:20260423T141246Z
UID:21173-1776952800-1776967200@www.cercottawa.ca
SUMMARY:CERC In-Person Job Fair - April 23\, 2026  *REGISTRATION REQUIRED*
DESCRIPTION:CERC will be holding an in-person Job Fair at 415 Hazeldean Rd. from 2pm-6pm.  There will be a several employers from various industries to meet with you face-to-face!  **REGISTRATION REQUIRED**
URL:https://www.cercottawa.ca/calendar-event/cerc-in-person-job-fair-april-23-2026/
LOCATION:CERC\, 415 Hazeldean Road\, Kanata\, ON\, K2L 4C6\, Canada
ORGANIZER;CN="CERC":MAILTO:info@cercottawa.ca
END:VEVENT
END:VCALENDAR