BEGIN:VCALENDAR
VERSION:2.0
PRODID:-//CERC Ottawa - ECPv6.0.4//NONSGML v1.0//EN
CALSCALE:GREGORIAN
METHOD:PUBLISH
X-WR-CALNAME:CERC Ottawa
X-ORIGINAL-URL:https://www.cercottawa.ca
X-WR-CALDESC:Events for CERC Ottawa
REFRESH-INTERVAL;VALUE=DURATION:PT1H
X-Robots-Tag:noindex
X-PUBLISHED-TTL:PT1H
BEGIN:VTIMEZONE
TZID:America/Toronto
BEGIN:DAYLIGHT
TZOFFSETFROM:-0500
TZOFFSETTO:-0400
TZNAME:EDT
DTSTART:20210314T070000
END:DAYLIGHT
BEGIN:STANDARD
TZOFFSETFROM:-0400
TZOFFSETTO:-0500
TZNAME:EST
DTSTART:20211107T060000
END:STANDARD
END:VTIMEZONE
BEGIN:VEVENT
DTSTART;TZID=America/Toronto:20210212T110000
DTEND;TZID=America/Toronto:20210212T120000
DTSTAMP:20260423T185855
CREATED:20200313T142337Z
LAST-MODIFIED:20210114T214901Z
UID:17272-1613127600-1613131200@www.cercottawa.ca
SUMMARY:1-on-1 LinkedIn - February 12\, 2021; 11am - 12pm
DESCRIPTION:The Ottawa Job Market has never been more competitive. LinkedIn is the number one tool for recruiters to engage with you. Meet one-on-one with an Employment Consultant to optimize your profile. There are three one-hour time slots; choose yours today! \n  \n 
URL:https://www.cercottawa.ca/calendar-event/1-on-1-linkedin-february-12-2021-2-2-2-2-2-2-2-2-2-2-2-2-2-2-2-2-2-3-3-3-3-3-2-2-2-2-2-2-2-2-2-3-2-2-2-3-3-3-3-2-2-2/
LOCATION:Zoom Meeting\, Ontario\, Canada
ORGANIZER;CN="CERC":MAILTO:info@cercottawa.ca
END:VEVENT
BEGIN:VEVENT
DTSTART;TZID=America/Toronto:20210212T100000
DTEND;TZID=America/Toronto:20210212T110000
DTSTAMP:20260423T185855
CREATED:20200313T142337Z
LAST-MODIFIED:20210114T214523Z
UID:17270-1613124000-1613127600@www.cercottawa.ca
SUMMARY:1-on-1 LinkedIn - February 12\, 2021; 10am - 11am
DESCRIPTION:The Ottawa Job Market has never been more competitive. LinkedIn is the number one tool for recruiters to engage with you. Meet one-on-one with an Employment Consultant to optimize your profile. There are three one-hour time slots; choose yours today! \n  \n 
URL:https://www.cercottawa.ca/calendar-event/1-on-1-linkedin-february-12-2021-2-2-2-2-2-2-2-2-2-2-2-2-2-2-2-2-2-3-3-3-3-3-2-2-2-2-2-2-2-2-2-3-2-2-2-3-3-3-3-2-2/
LOCATION:Zoom Meeting\, Ontario\, Canada
ORGANIZER;CN="CERC":MAILTO:info@cercottawa.ca
END:VEVENT
BEGIN:VEVENT
DTSTART;TZID=America/Toronto:20210212T090000
DTEND;TZID=America/Toronto:20210212T100000
DTSTAMP:20260423T185856
CREATED:20200313T142337Z
LAST-MODIFIED:20210114T214410Z
UID:17268-1613120400-1613124000@www.cercottawa.ca
SUMMARY:1-on-1 LinkedIn - February 12\, 2021; 9am - 10am
DESCRIPTION:The Ottawa Job Market has never been more competitive. LinkedIn is the number one tool for recruiters to engage with you. Meet one-on-one with an Employment Consultant to optimize your profile. There are three one-hour time slots; choose yours today! \n  \n 
URL:https://www.cercottawa.ca/calendar-event/1-on-1-linkedin-february-12-2021-2-2-2-2-2-2-2-2-2-2-2-2-2-2-2-2-2-3-3-3-3-3-2-2-2-2-2-2-2-2-2-3-2-2-2-3-3-3-3-2/
LOCATION:Zoom Meeting\, Ontario\, Canada
ORGANIZER;CN="CERC":MAILTO:info@cercottawa.ca
END:VEVENT
BEGIN:VEVENT
DTSTART;TZID=America/Toronto:20210211T100000
DTEND;TZID=America/Toronto:20210211T120000
DTSTAMP:20260423T185856
CREATED:20200313T142337Z
LAST-MODIFIED:20210114T221154Z
UID:17294-1613037600-1613044800@www.cercottawa.ca
SUMMARY:Interactive Interview Preparation - February 11\, 2021; 10am - 12:00pm
DESCRIPTION:The Interview Preparation workshop is live and interactive\, designed to build self-marketing capabilities so that participants will increase their ability to respond to difficult questions with confidence and communicate the value they have to bring to potential employers.  It will also train participants to demonstrate the transferable skills they possess from one career path to different fields of employment. \n** If you are unable to attend this workshop on this date and time\, please contact us at info@cercottawa.ca and we can send you a recorded session. \n  \n  \n 
URL:https://www.cercottawa.ca/calendar-event/interactive-interview-preparation-january-14-2020-2-2-2-2-2-2-2-2-2-2/
LOCATION:Zoom Meeting\, Ontario\, Canada
ORGANIZER;CN="CERC":MAILTO:info@cercottawa.ca
END:VEVENT
BEGIN:VEVENT
DTSTART;TZID=America/Toronto:20210210T110000
DTEND;TZID=America/Toronto:20210210T120000
DTSTAMP:20260423T185856
CREATED:20190801T120018Z
LAST-MODIFIED:20210114T220731Z
UID:17290-1612954800-1612958400@www.cercottawa.ca
SUMMARY:Second Career Info Session: February 10\, 2021; 11:00am-12:00pm
DESCRIPTION:Learn about the Second Career Program – participants must call to pre-screen for this session.  We have partnered with the Experienced Worker Centre at Algonquin to attend our information sessions at the end of the hour-long presentation. They will be available to answer questions for attendees about process etc. \nPlease call 613-828-2123 ext. 221 to pre-screen and register.
URL:https://www.cercottawa.ca/calendar-event/second-career-info-session-11am-2-3-2-2-2-2-2-2-2-2-2-2-2-2-2-2-2/
LOCATION:Online\, Ontario\, Canada
CATEGORIES:Workshop and Events
END:VEVENT
BEGIN:VEVENT
DTSTART;TZID=America/Toronto:20210209T090000
DTEND;TZID=America/Toronto:20210209T110000
DTSTAMP:20260423T185856
CREATED:20190827T203407Z
LAST-MODIFIED:20210202T192918Z
UID:17253-1612861200-1612868400@www.cercottawa.ca
SUMMARY:Virtual OPP Constable Career Info Session\, February 9\, 2021: 9:00am - 11:00am
DESCRIPTION:  \n** Registration Full** \nThis Ontario Provincial Police (OPP) Information Session provides participants the opportunity to gain knowledge\, insight and helpful advice relating to the OPPs recruitment process. The session includes an overview of how to apply\, pre-requisites\, expectations of an applicant and an overview of how to prepare for each stage of the process. This presentation will benefit those candidates who want to learn more about the OPPs recruitment process\, to ensure they are at their competitive best before they apply.  Registrants will be provided a Zoom link the morning of February 9 \, 2021 with instructions. \n**This event is open to first time attendees only** \n 
URL:https://www.cercottawa.ca/calendar-event/opp-constable-career-info-session-2-4-2-2-3-2-2-2-2/
LOCATION:Zoom Meeting\, Ontario\, Canada
END:VEVENT
BEGIN:VEVENT
DTSTART;VALUE=DATE:20210208
DTEND;VALUE=DATE:20210209
DTSTAMP:20260423T185856
CREATED:20200313T142337Z
LAST-MODIFIED:20210114T220233Z
UID:17286-1612742400-1612828799@www.cercottawa.ca
SUMMARY:Career Exploration - February 8\, 2021
DESCRIPTION:Wondering what career is best for you?  This workshop will help you narrow down all the possibilities.  As this is an online training session\, you choose what time works for you! \n  \n  \n 
URL:https://www.cercottawa.ca/calendar-event/career-exploration-february-8-2020-2-2-2-2-2-2-2-2-2-2-2-2-2-2-2-2-2/
LOCATION:Online\, Ontario\, Canada
ORGANIZER;CN="CERC":MAILTO:info@cercottawa.ca
END:VEVENT
BEGIN:VEVENT
DTSTART;TZID=America/Toronto:20210205T110000
DTEND;TZID=America/Toronto:20210205T120000
DTSTAMP:20260423T185856
CREATED:20200313T142337Z
LAST-MODIFIED:20210114T214204Z
UID:17266-1612522800-1612526400@www.cercottawa.ca
SUMMARY:1-on-1 LinkedIn - February 5\, 2021; 11am - 12pm
DESCRIPTION:The Ottawa Job Market has never been more competitive. LinkedIn is the number one tool for recruiters to engage with you. Meet one-on-one with an Employment Consultant to optimize your profile. There are three one-hour time slots; choose yours today! \n  \n 
URL:https://www.cercottawa.ca/calendar-event/1-on-1-linkedin-february-5-2021-2-2-2-2-2-2-2-2-2-2-2-2-2-2-2-2-2-3-3-3-3-3-2-2-2-2-2-2-2-2-2-3-2-2-2-3-3-3-3-2-2/
LOCATION:Zoom Meeting\, Ontario\, Canada
ORGANIZER;CN="CERC":MAILTO:info@cercottawa.ca
END:VEVENT
BEGIN:VEVENT
DTSTART;TZID=America/Toronto:20210205T100000
DTEND;TZID=America/Toronto:20210205T110000
DTSTAMP:20260423T185856
CREATED:20200313T142337Z
LAST-MODIFIED:20210114T213847Z
UID:17264-1612519200-1612522800@www.cercottawa.ca
SUMMARY:1-on-1 LinkedIn - February 5\, 2021; 10am - 11am
DESCRIPTION:The Ottawa Job Market has never been more competitive. LinkedIn is the number one tool for recruiters to engage with you. Meet one-on-one with an Employment Consultant to optimize your profile. There are three one-hour time slots; choose yours today! \n  \n 
URL:https://www.cercottawa.ca/calendar-event/1-on-1-linkedin-february-5-2021-2-2-2-2-2-2-2-2-2-2-2-2-2-2-2-2-2-3-3-3-3-3-2-2-2-2-2-2-2-2-2-3-2-2-2-3-3-3-3-2/
LOCATION:Zoom Meeting\, Ontario\, Canada
ORGANIZER;CN="CERC":MAILTO:info@cercottawa.ca
END:VEVENT
BEGIN:VEVENT
DTSTART;TZID=America/Toronto:20210205T090000
DTEND;TZID=America/Toronto:20210205T100000
DTSTAMP:20260423T185856
CREATED:20200313T142337Z
LAST-MODIFIED:20210114T213644Z
UID:17262-1612515600-1612519200@www.cercottawa.ca
SUMMARY:1-on-1 LinkedIn - February 5\, 2021; 9am - 10am
DESCRIPTION:The Ottawa Job Market has never been more competitive. LinkedIn is the number one tool for recruiters to engage with you. Meet one-on-one with an Employment Consultant to optimize your profile. There are three one-hour time slots; choose yours today! \n  \n 
URL:https://www.cercottawa.ca/calendar-event/1-on-1-linkedin-january-29-2021-2-2-2-2-2-2-2-2-2-2-2-2-2-2-2-2-2-3-3-3-3-3-2-2-2-2-2-2-2-2-2-3-2-2-2-3-3-3-3/
LOCATION:Zoom Meeting\, Ontario\, Canada
ORGANIZER;CN="CERC":MAILTO:info@cercottawa.ca
END:VEVENT
BEGIN:VEVENT
DTSTART;VALUE=DATE:20210204
DTEND;VALUE=DATE:20210205
DTSTAMP:20260423T185856
CREATED:20200313T142337Z
LAST-MODIFIED:20210114T212144Z
UID:17258-1612396800-1612483199@www.cercottawa.ca
SUMMARY:WHMIS 2015 - February 4\, 2021
DESCRIPTION:WHMIS is a comprehensive system for providing health and safety information on hazardous products intended for use\, handling\, or storage in Canadian workplaces.  A “Proof of Completion” certificate will be issued upon completion of the training.  As this is an online training session\, you choose what time works for you! \n  \n  \n 
URL:https://www.cercottawa.ca/calendar-event/whmis-2015-february-4-2020-2-2-2-2-2-2-2-2-2-2-2-2-2-2-2-2-2-2-2/
LOCATION:Online\, Ontario\, Canada
ORGANIZER;CN="CERC":MAILTO:info@cercottawa.ca
END:VEVENT
BEGIN:VEVENT
DTSTART;TZID=America/Toronto:20210203T150000
DTEND;TZID=America/Toronto:20210203T170000
DTSTAMP:20260423T185856
CREATED:20210114T211805Z
LAST-MODIFIED:20210114T211805Z
UID:17256-1612364400-1612371600@www.cercottawa.ca
SUMMARY:T&T Supermarket Inc. Hiring Event - February 3\, 2021; 3pm - 5pm
DESCRIPTION:T&T Supermarket Inc. Ottawa has many immediate positions available and CERC is hosting this Hiring Event to connect jobseekers directly to this employer.  Registrants will have face-to-face time with Recruiters and Chinese translation will be available.  Positions available include: \n\nEcommerce Order Picker\nMeat Associate\nSeafood Associate\nProduce Associate\nBakery Service Associate\nBakery Production Associate\nGeneral Associate\n\nRequirements:  \n\nFlexible to work in shifts\, including weekdays\, weekends\, evening hours and statutory holidays\nReliable and hardworking; friendly and have a passion to serve our customers\nInterested to develop his/her career in the supermarket industry\nBe prepared to hands on dealing with meat products and lifting of products of 40 pounds on a regular basis (only apply few positions)\nProficient in Mandarin or Cantonese can be an asset\n\n 
URL:https://www.cercottawa.ca/calendar-event/t-3pm-5pm/
LOCATION:Zoom Meeting\, Ontario\, Canada
ORGANIZER;CN="CERC":MAILTO:info@cercottawa.ca
END:VEVENT
BEGIN:VEVENT
DTSTART;TZID=America/Toronto:20210202T090000
DTEND;TZID=America/Toronto:20210202T110000
DTSTAMP:20260423T185856
CREATED:20190827T203407Z
LAST-MODIFIED:20210119T235538Z
UID:17250-1612256400-1612263600@www.cercottawa.ca
SUMMARY:Virtual OPP Constable Career Info Session\, February 2\, 2021: 9:00am - 11:00am
DESCRIPTION:**REGISTRATION FULL** \nThis Ontario Provincial Police (OPP) Information Session provides participants the opportunity to gain knowledge\, insight and helpful advice relating to the OPPs recruitment process. The session includes an overview of how to apply\, pre-requisites\, expectations of an applicant and an overview of how to prepare for each stage of the process. This presentation will benefit those candidates who want to learn more about the OPPs recruitment process\, to ensure they are at their competitive best before they apply.  Registrants will be provided a Zoom link the morning of February 2\, 2021 with instructions. \n**This event is open to first time attendees only** \n 
URL:https://www.cercottawa.ca/calendar-event/opp-constable-career-info-session-2-4-2-2-3-2-2-2/
LOCATION:Zoom Meeting\, Ontario\, Canada
END:VEVENT
BEGIN:VEVENT
DTSTART;VALUE=DATE:20210201
DTEND;VALUE=DATE:20210202
DTSTAMP:20260423T185856
CREATED:20200313T142337Z
LAST-MODIFIED:20210114T183954Z
UID:17246-1612137600-1612223999@www.cercottawa.ca
SUMMARY:Worker Health and Safety Awareness in 4 Steps - February 1\, 2021
DESCRIPTION:This training introduces workers to the Occupational Health and Safety Act. It focuses on the health and safety rights and responsibilities of workers\, supervisors and employers. It also serves as a general introduction to workplace health and safety. A “Proof of Completion” certificate will be issued upon completion of the training.  As this is an online training session\, you choose what time works for you! \n  \n  \n 
URL:https://www.cercottawa.ca/calendar-event/worker-health-and-safety-awareness-in-4-steps-february-1-2-2-2-2-2-3-2-2-2-2-2-2-2-2-2-2-2-2-2/
LOCATION:Online\, Ontario\, Canada
ORGANIZER;CN="CERC":MAILTO:info@cercottawa.ca
END:VEVENT
BEGIN:VEVENT
DTSTART;TZID=America/Toronto:20210129T110000
DTEND;TZID=America/Toronto:20210129T120000
DTSTAMP:20260423T185856
CREATED:20200313T142337Z
LAST-MODIFIED:20201219T031041Z
UID:17235-1611918000-1611921600@www.cercottawa.ca
SUMMARY:1-on-1 LinkedIn - January 29\, 2021; 11am - 12pm
DESCRIPTION:The Ottawa Job Market has never been more competitive. LinkedIn is the number one tool for recruiters to engage with you. Meet one-on-one with an Employment Consultant to optimize your profile. There are three one-hour time slots; choose yours today! \n  \n 
URL:https://www.cercottawa.ca/calendar-event/1-on-1-linkedin-january-29-2021-2-2-2-2-2-2-2-2-2-2-2-2-2-2-2-2-2-3-3-3-3-3-2-2-2-2-2-2-2-2-2-3-2-2-2-3-3-3-2-2/
LOCATION:Zoom Meeting\, Ontario\, Canada
ORGANIZER;CN="CERC":MAILTO:info@cercottawa.ca
END:VEVENT
BEGIN:VEVENT
DTSTART;TZID=America/Toronto:20210129T100000
DTEND;TZID=America/Toronto:20210129T110000
DTSTAMP:20260423T185856
CREATED:20200313T142337Z
LAST-MODIFIED:20201219T030914Z
UID:17233-1611914400-1611918000@www.cercottawa.ca
SUMMARY:1-on-1 LinkedIn - January 29\, 2021; 10am - 11am
DESCRIPTION:The Ottawa Job Market has never been more competitive. LinkedIn is the number one tool for recruiters to engage with you. Meet one-on-one with an Employment Consultant to optimize your profile. There are three one-hour time slots; choose yours today! \n  \n 
URL:https://www.cercottawa.ca/calendar-event/1-on-1-linkedin-january-29-2021-2-2-2-2-2-2-2-2-2-2-2-2-2-2-2-2-2-3-3-3-3-3-2-2-2-2-2-2-2-2-2-3-2-2-2-3-3-3-2/
LOCATION:Zoom Meeting\, Ontario\, Canada
ORGANIZER;CN="CERC":MAILTO:info@cercottawa.ca
END:VEVENT
BEGIN:VEVENT
DTSTART;TZID=America/Toronto:20210129T090000
DTEND;TZID=America/Toronto:20210129T100000
DTSTAMP:20260423T185856
CREATED:20200313T142337Z
LAST-MODIFIED:20201219T030632Z
UID:17231-1611910800-1611914400@www.cercottawa.ca
SUMMARY:1-on-1 LinkedIn - January 29\, 2021; 9am - 10am
DESCRIPTION:The Ottawa Job Market has never been more competitive. LinkedIn is the number one tool for recruiters to engage with you. Meet one-on-one with an Employment Consultant to optimize your profile. There are three one-hour time slots; choose yours today! \n  \n 
URL:https://www.cercottawa.ca/calendar-event/1-on-1-linkedin-january-29-2021-2-2-2-2-2-2-2-2-2-2-2-2-2-2-2-2-2-3-3-3-3-3-2-2-2-2-2-2-2-2-2-3-2-2-2-3-3-3/
LOCATION:Zoom Meeting\, Ontario\, Canada
ORGANIZER;CN="CERC":MAILTO:info@cercottawa.ca
END:VEVENT
BEGIN:VEVENT
DTSTART;TZID=America/Toronto:20210128T100000
DTEND;TZID=America/Toronto:20210128T120000
DTSTAMP:20260423T185856
CREATED:20190801T115858Z
LAST-MODIFIED:20201219T031751Z
UID:17228-1611828000-1611835200@www.cercottawa.ca
SUMMARY:Interactive Next Chapter Workshop: January 28\, 2021; 10:00am - 12:00pm
DESCRIPTION:A live and interactive workshop designed to help workers over 40 return to the workforce. Some topics will include: reasons older workers continue to work\, different generations within the workforce and effective job search strategies.
URL:https://www.cercottawa.ca/calendar-event/next-chapter-workshop-january-28-10am-2-3-2-2-2-2-2-2-2-2-2-2-2-2-2-2/
LOCATION:Zoom Meeting\, Ontario\, Canada
CATEGORIES:Workshop and Events
END:VEVENT
BEGIN:VEVENT
DTSTART;TZID=America/Toronto:20210127T110000
DTEND;TZID=America/Toronto:20210127T120000
DTSTAMP:20260423T185856
CREATED:20190801T120018Z
LAST-MODIFIED:20201219T030006Z
UID:17225-1611745200-1611748800@www.cercottawa.ca
SUMMARY:Second Career Info Session: January 27\, 2021; 11:00am-12:00pm
DESCRIPTION:Learn about the Second Career Program – participants must call to pre-screen for this session.  We have partnered with the Experienced Worker Centre at Algonquin to attend our information sessions at the end of the hour-long presentation. They will be available to answer questions for attendees about process etc. \nPlease call 613-828-2123 ext. 221 to pre-screen and register.
URL:https://www.cercottawa.ca/calendar-event/second-career-info-session-11am-2-3-2-2-2-2-2-2-2-2-2-2-2-2-2-2/
LOCATION:Online\, Ontario\, Canada
CATEGORIES:Workshop and Events
END:VEVENT
BEGIN:VEVENT
DTSTART;TZID=America/Toronto:20210126T100000
DTEND;TZID=America/Toronto:20210126T120000
DTSTAMP:20260423T185856
CREATED:20200313T142337Z
LAST-MODIFIED:20201219T025652Z
UID:17223-1611655200-1611662400@www.cercottawa.ca
SUMMARY:Interactive Self Care Workshop - January 26\, 2021; 10:00am - 12:00pm
DESCRIPTION:Please join us for this live and interactive presentation to discover new ways to take care of your mental\, emotional and physical health while job searching. \n  \n  \n 
URL:https://www.cercottawa.ca/calendar-event/self-care-workshop-january-26-28-2020-2-2-2-2-2-2-2/
LOCATION:Zoom Meeting\, Ontario\, Canada
ORGANIZER;CN="CERC":MAILTO:info@cercottawa.ca
END:VEVENT
BEGIN:VEVENT
DTSTART;VALUE=DATE:20210125
DTEND;VALUE=DATE:20210126
DTSTAMP:20260423T185856
CREATED:20200313T142337Z
LAST-MODIFIED:20201219T024413Z
UID:17221-1611532800-1611619199@www.cercottawa.ca
SUMMARY:WHMIS 2015 - January 25\, 2021
DESCRIPTION:WHMIS is a comprehensive system for providing health and safety information on hazardous products intended for use\, handling\, or storage in Canadian workplaces.  A “Proof of Completion” certificate will be issued upon completion of the training.  As this is an online training session\, you choose what time works for you! \n  \n  \n 
URL:https://www.cercottawa.ca/calendar-event/whmis-2015-january-25-2020-2-2-2-2-2-2-2-2-2-2-2-2-2-2-2-2-2-2/
LOCATION:Online\, Ontario\, Canada
ORGANIZER;CN="CERC":MAILTO:info@cercottawa.ca
END:VEVENT
BEGIN:VEVENT
DTSTART;VALUE=DATE:20210125
DTEND;VALUE=DATE:20210126
DTSTAMP:20260423T185856
CREATED:20200313T142337Z
LAST-MODIFIED:20201219T024244Z
UID:17219-1611532800-1611619199@www.cercottawa.ca
SUMMARY:Job Search - January 25\, 2021
DESCRIPTION:Effective job search means that you know where and how to get job leads.  This workshop will teach you what you need to know to make the right connections.  As this is an online training session\, you choose what time works for you! \n  \n  \n 
URL:https://www.cercottawa.ca/calendar-event/job-search-january-25-2021-2-2-2-2-2-2-2-2-2-2-2-2-2-2/
LOCATION:Online\, Ontario\, Canada
ORGANIZER;CN="CERC":MAILTO:info@cercottawa.ca
END:VEVENT
BEGIN:VEVENT
DTSTART;TZID=America/Toronto:20210122T110000
DTEND;TZID=America/Toronto:20210122T120000
DTSTAMP:20260423T185856
CREATED:20200313T142337Z
LAST-MODIFIED:20201219T024020Z
UID:17217-1611313200-1611316800@www.cercottawa.ca
SUMMARY:1-on-1 LinkedIn - January 22\, 2021; 11am - 12pm
DESCRIPTION:The Ottawa Job Market has never been more competitive. LinkedIn is the number one tool for recruiters to engage with you. Meet one-on-one with an Employment Consultant to optimize your profile. There are three one-hour time slots; choose yours today! \n  \n 
URL:https://www.cercottawa.ca/calendar-event/1-on-1-linkedin-january-22-2021-2-2-2-2-2-2-2-2-2-2-2-2-2-2-2-2-2-3-3-3-3-3-2-2-2-2-2-2-2-2-2-3-2-2-2-3-3-2-2/
LOCATION:Zoom Meeting\, Ontario\, Canada
ORGANIZER;CN="CERC":MAILTO:info@cercottawa.ca
END:VEVENT
BEGIN:VEVENT
DTSTART;TZID=America/Toronto:20210122T100000
DTEND;TZID=America/Toronto:20210122T110000
DTSTAMP:20260423T185856
CREATED:20200313T142337Z
LAST-MODIFIED:20201219T023827Z
UID:17215-1611309600-1611313200@www.cercottawa.ca
SUMMARY:1-on-1 LinkedIn - January 22\, 2021; 10am - 11am
DESCRIPTION:The Ottawa Job Market has never been more competitive. LinkedIn is the number one tool for recruiters to engage with you. Meet one-on-one with an Employment Consultant to optimize your profile. There are three one-hour time slots; choose yours today! \n  \n 
URL:https://www.cercottawa.ca/calendar-event/1-on-1-linkedin-january-22-2021-2-2-2-2-2-2-2-2-2-2-2-2-2-2-2-2-2-3-3-3-3-3-2-2-2-2-2-2-2-2-2-3-2-2-2-3-3-2/
LOCATION:Zoom Meeting\, Ontario\, Canada
ORGANIZER;CN="CERC":MAILTO:info@cercottawa.ca
END:VEVENT
BEGIN:VEVENT
DTSTART;TZID=America/Toronto:20210122T090000
DTEND;TZID=America/Toronto:20210122T100000
DTSTAMP:20260423T185856
CREATED:20200313T142337Z
LAST-MODIFIED:20201219T023616Z
UID:17213-1611306000-1611309600@www.cercottawa.ca
SUMMARY:1-on-1 LinkedIn - January 22\, 2021; 9am - 10am
DESCRIPTION:The Ottawa Job Market has never been more competitive. LinkedIn is the number one tool for recruiters to engage with you. Meet one-on-one with an Employment Consultant to optimize your profile. There are three one-hour time slots; choose yours today! \n  \n 
URL:https://www.cercottawa.ca/calendar-event/1-on-1-linkedin-january-22-2021-2-2-2-2-2-2-2-2-2-2-2-2-2-2-2-2-2-3-3-3-3-3-2-2-2-2-2-2-2-2-2-3-2-2-2-3-3/
LOCATION:Zoom Meeting\, Ontario\, Canada
ORGANIZER;CN="CERC":MAILTO:info@cercottawa.ca
END:VEVENT
BEGIN:VEVENT
DTSTART;TZID=America/Toronto:20210121T100000
DTEND;TZID=America/Toronto:20210121T120000
DTSTAMP:20260423T185856
CREATED:20200313T142337Z
LAST-MODIFIED:20201219T023435Z
UID:17211-1611223200-1611230400@www.cercottawa.ca
SUMMARY:Interactive Resume Workshop - January 21\, 2020; 10am - 12pm
DESCRIPTION:This is a live and interactive zoom workshop for those who would like to create or improve their resume. Participants will learn how to make a modern day resume that makes them stand out above the rest in their job search. \n** If you are unable to attend this workshop on this date and time\, please contact us at info@cercottawa.ca and we can send you a recorded session. \n  \n  \n 
URL:https://www.cercottawa.ca/calendar-event/interactive-resume-workshop-january-21-20-2020-2-2-2-2-2-2-2-2-2/
LOCATION:Zoom Meeting\, Ontario\, Canada
ORGANIZER;CN="CERC":MAILTO:info@cercottawa.ca
END:VEVENT
BEGIN:VEVENT
DTSTART;VALUE=DATE:20210120
DTEND;VALUE=DATE:20210121
DTSTAMP:20260423T185856
CREATED:20200313T142337Z
LAST-MODIFIED:20201219T023125Z
UID:17209-1611100800-1611187199@www.cercottawa.ca
SUMMARY:Worker Health and Safety Awareness in 4 Steps - January 20\, 2021
DESCRIPTION:This training introduces workers to the Occupational Health and Safety Act. It focuses on the health and safety rights and responsibilities of workers\, supervisors and employers. It also serves as a general introduction to workplace health and safety. A “Proof of Completion” certificate will be issued upon completion of the training.  As this is an online training session\, you choose what time works for you! \n  \n  \n 
URL:https://www.cercottawa.ca/calendar-event/worker-health-and-safety-awareness-in-4-steps-january-20-2-2-2-2-2-3-2-2-2-2-2-2-2-2-2-2-2-2/
LOCATION:Online\, Ontario\, Canada
ORGANIZER;CN="CERC":MAILTO:info@cercottawa.ca
END:VEVENT
BEGIN:VEVENT
DTSTART;TZID=America/Toronto:20210119T090000
DTEND;TZID=America/Toronto:20210119T110000
DTSTAMP:20260423T185856
CREATED:20190827T203407Z
LAST-MODIFIED:20210115T232019Z
UID:17206-1611046800-1611054000@www.cercottawa.ca
SUMMARY:Virtual OPP Constable Career Info Session\, January 19\, 2021: 9:00am - 11:00am
DESCRIPTION:**REGISTRATIONS FULL** \nThis Ontario Provincial Police (OPP) Information Session provides participants the opportunity to gain knowledge\, insight and helpful advice relating to the OPPs recruitment process. The session includes an overview of how to apply\, pre-requisites\, expectations of an applicant and an overview of how to prepare for each stage of the process. This presentation will benefit those candidates who want to learn more about the OPPs recruitment process\, to ensure they are at their competitive best before they apply.  Registrants will be provided a Zoom link the morning of January 19\, 2021 with instructions. \n**This event is open to first time attendees only** \n 
URL:https://www.cercottawa.ca/calendar-event/opp-constable-career-info-session-2-4-2-2-3-2-2/
LOCATION:Zoom Meeting\, Ontario\, Canada
END:VEVENT
BEGIN:VEVENT
DTSTART;TZID=America/Toronto:20210118T133000
DTEND;TZID=America/Toronto:20210118T143000
DTSTAMP:20260423T185856
CREATED:20201119T210910Z
LAST-MODIFIED:20201219T022530Z
UID:17204-1610976600-1610980200@www.cercottawa.ca
SUMMARY:Virtual Trades Talent Link YMCA-YWCA Information Session - January 18\, 2021; 1:30pm - 2:30pm
DESCRIPTION:Are you new to Canada? Are you looking for a good job opportunity to support yourself and your family? Would you prefer to learn on the job rather than in a classroom? Do you enjoy working with your hands but also challenge your intellect? There are more than 150 jobs available! Join us on this interactive webinar to get more information about them and get help from a professional employment counselor. \nThis webinar is part of the Newcomers in Trades programs of the National Capital Region helping newcomers to Canada finding their future career path. \nDuring this webinar you will know: \n\nWhat are good jobs?\nWhat are the skilled trades?\nHow the Y can help?\nWhat are the next steps?
URL:https://www.cercottawa.ca/calendar-event/virtual-trades-talent-link-ymca-ywca-information-session-january-18-2020-130pm-230pm-2/
LOCATION:Zoom Meeting\, Ontario\, Canada
ORGANIZER;CN="CERC":MAILTO:info@cercottawa.ca
END:VEVENT
BEGIN:VEVENT
DTSTART;TZID=America/Toronto:20210118T110000
DTEND;TZID=America/Toronto:20210118T130000
DTSTAMP:20260423T185856
CREATED:20200313T142337Z
LAST-MODIFIED:20210112T133026Z
UID:17244-1610967600-1610974800@www.cercottawa.ca
SUMMARY:Keeping Ontario Safe: What You Need to Know About ES & OHS Related to COVID-19 - January 18\, 2021; 11am-1pm
DESCRIPTION:The Ministry of Labour\, Training and Skills Development is hosting an online information session to help you understand your employment standards and occupational health and safety rights and obligations as they relate to COVID-19. \nThe session will be delivered by subject-matter experts from the ministry who will answer frequently asked questions the ministry receives about COVID-19\, such as:\n• What flexibility is there around changing hours of work?\n• Can an employee be fired if they refuse to go back to work due to a family obligation related to COVID-19?\n• Who is responsible for protecting workers against COVID-19 in the workplace?\n• Can a worker refuse to work if they feel unsafe due to COVID-19? \nThere will also be a Q&A period where you can ask and get answers to your own questions. \n  \n  \n 
URL:https://www.cercottawa.ca/calendar-event/self-care-workshop-january-26-28-2020-2-2-2-2-2-2-2-2/
LOCATION:Zoom Meeting\, Ontario\, Canada
ORGANIZER;CN="CERC":MAILTO:info@cercottawa.ca
END:VEVENT
END:VCALENDAR